BEGIN:VCALENDAR
VERSION:2.0
PRODID:-//Народни музеј - ECPv4.7.3//NONSGML v1.0//EN
CALSCALE:GREGORIAN
METHOD:PUBLISH
X-WR-CALNAME:Народни музеј
X-ORIGINAL-URL:https://www.narodnimuzej.rs
X-WR-CALDESC:Догађаји за Народни музеј
BEGIN:VEVENT
DTSTART;TZID=Europe/Belgrade:20190425T180000
DTEND;TZID=Europe/Belgrade:20190425T180000
DTSTAMP:20260421T070418
CREATED:20191002T143953Z
LAST-MODIFIED:20191002T143953Z
UID:38194-1556215200-1556215200@www.narodnimuzej.rs
SUMMARY:Од Крачуна до Чешљара: европски оквири српског барокног сликарства -  Владимир М. Симић
DESCRIPTION:У оквиру пратећих програма изложбе Бернинијева школа и римски барок. Ремек дела Палате Киђи у Аричи гостујући предавач\, ванредни професор др Валдимир М. Симић са Филозофског факултета у Београду одржаће предавање Од Крачуна до Чешљара: европски оквири српског барокног сликарства у Атријуму Народног музеја у оквиру којега ће заинтересованим посетиоцима бити пружена могућност да сазнају нешто више о српском бароку и његовом месту у широким оквирима барокне културе која ја од 17. века из Рима запљуснула читаву Европу и значајан део Новог света. \n
URL:https://www.narodnimuzej.rs/dogadjaj/od-krachuna-do-cheshlara-evropski-okviri-srpskog-baroknog-slikarstva-vladimir-m-simi/
LOCATION:Народни музеј Србије
CATEGORIES:Предавања
END:VEVENT
END:VCALENDAR