BEGIN:VCALENDAR
VERSION:2.0
PRODID:-//Народни музеј - ECPv4.7.3//NONSGML v1.0//EN
CALSCALE:GREGORIAN
METHOD:PUBLISH
X-WR-CALNAME:Народни музеј
X-ORIGINAL-URL:https://www.narodnimuzej.rs
X-WR-CALDESC:Догађаји за Народни музеј
BEGIN:VEVENT
DTSTART;TZID=Europe/Belgrade:20200305T180000
DTEND;TZID=Europe/Belgrade:20200305T200000
DTSTAMP:20260421T115341
CREATED:20200303T084554Z
LAST-MODIFIED:20200304T153030Z
UID:40716-1583431200-1583438400@www.narodnimuzej.rs
SUMMARY:Предавање др Мишка Шуваковића о Јану Фабру
DESCRIPTION:ЈАН ФАБР. Од визуелне драматургије до дизајнираних фантазматских малих и великих пријатељa/непријатеља \nДр Мишко Шуваковић ће у атријуму Народног музеја\, у четвтак\, 5. марта у 18 часова одржати предавање ЈАН ФАБР. Од визуелне драматургије до дизајнираних фантазматских малих и великих пријатељa/непријатеља. У предавању ће бити речи о концептуалним и чулним преображајима драмског позоришта у тактички полигон визуелних уметности. Низ редитеља и кореографа (Роберт Вилсон\, Јан Фабр\, Тино Сигал) нарушио је\, изнутра или споља\, границе театра успостављајући трансдисциплинарни однос између драмског театра\, новог плеса\, перформанс уметности\, нових емдија\, амбијенталне уметности\, дизајна и ликовног експеримента. Успостављено је хибридно поље естетског истраживања чулног\, осећајног\, меморијског и пројективног. \nЈан Фабр је започео истраживања визуелних уметности и театра у времену постмодерне\, специфичније трансавангарде. Његов рад као савременог визуелног уметника повезан је са тестирањем видљивог\, границама фантазије и фантазма\, дизајнирања предметног и просторног севта. Данас је он нека врста произвођача ”спектакла” – као видљивости акумулираног капитала\, моћи\, интимности\, релативних односа приватног и јавног\, нежног и бруталног бивања у свету људи и свету без људи. \n
URL:https://www.narodnimuzej.rs/dogadjaj/predavane-dr-mishka-shuvakovi-a-o-janu-fabru/
CATEGORIES:Предавања
ATTACH;FMTTYPE=image/jpeg:https://www.narodnimuzej.rs/wp-content/uploads/2020/03/Cover-Event.jpg
END:VEVENT
END:VCALENDAR