BEGIN:VCALENDAR
VERSION:2.0
PRODID:-//Народни музеј - ECPv4.7.3//NONSGML v1.0//EN
CALSCALE:GREGORIAN
METHOD:PUBLISH
X-WR-CALNAME:Народни музеј
X-ORIGINAL-URL:https://www.narodnimuzej.rs
X-WR-CALDESC:Догађаји за Народни музеј
BEGIN:VEVENT
DTSTART;TZID=Europe/Belgrade:20200312T180000
DTEND;TZID=Europe/Belgrade:20200312T193000
DTSTAMP:20260421T101258
CREATED:20200304T151206Z
LAST-MODIFIED:20200304T153736Z
UID:40731-1584036000-1584041400@www.narodnimuzej.rs
SUMMARY:Предавање др Николе Крстовић "Тарантула у кући – Фабр у музеју"
DESCRIPTION:  \nТарантула у кући – Фабр у музеју   \nдр Никола Крстовић\, Филозофски факултет \nУ четвртак 12. марта у 18 часова\, у атријуму Народног музеја предавање под називом Тарантула у кући – Фабр у музеју одржаће др Никола Крстовић са Филозофског факултета. у оквиру предавања ће из позиција музеологије говорити о Фабровом поимању односа савремене уметности као интерпретативног алата у музеју.  Током предавања биће речи о Фабровоj изложби у Лувру\, као и о другим Фабровим искорацима у различите перформативне моделе\, како би се испитали људскост\, издржљивост\, положај човека у свету\, однос према идеологијама\, идејама\, другима\, себи. Попут Фабрових тарантула које преиспитују човеков однос према сећању и садашњем тренутку\, и сам Фабр представља извесни тест издржљивости институције\, закона\, норми. \n
URL:https://www.narodnimuzej.rs/dogadjaj/predavane-dr-nikole-krstovi-tarantula-u-ku-i-fabr-u-muzeju/
LOCATION:Народни музеј Србије
CATEGORIES:Предавања
ATTACH;FMTTYPE=image/jpeg:https://www.narodnimuzej.rs/wp-content/uploads/2020/03/Cover-Event.jpg
END:VEVENT
END:VCALENDAR