BEGIN:VCALENDAR
VERSION:2.0
PRODID:-//Народни музеј - ECPv4.7.3//NONSGML v1.0//EN
CALSCALE:GREGORIAN
METHOD:PUBLISH
X-WR-CALNAME:Народни музеј
X-ORIGINAL-URL:https://www.narodnimuzej.rs
X-WR-CALDESC:Догађаји за Народни музеј
BEGIN:VEVENT
DTSTART;TZID=Europe/Belgrade:20220205T130000
DTEND;TZID=Europe/Belgrade:20220205T143000
DTSTAMP:20260423T115637
CREATED:20220128T134144Z
LAST-MODIFIED:20220128T154105Z
UID:46783-1644066000-1644071400@www.narodnimuzej.rs
SUMMARY:Радионица за одрасле „Уметнички колаж“
DESCRIPTION:Разгледајући изложбу Зенитистима целога света. Из заоставштине Љубомира Мицића у Народном музеју у Београду били смо надахнути да представимо различите уметничке правце који су се испољили током двадесетих година 20. века. Посебна пажња биће усмерена кроз практични део радионице на коришћење часописа и дневних новина као материјал и инспирација за уметност. Пријављивање је обавезно на мејл адресу: radionice@narodnimuzej.rs . \n
URL:https://www.narodnimuzej.rs/dogadjaj/radionica-za-odrasle-umetnicki-kolaz/
LOCATION:Народни музеј Србије
CATEGORIES:Радионица
ATTACH;FMTTYPE=image/jpeg:https://www.narodnimuzej.rs/wp-content/uploads/2022/01/Featured-4.jpg
END:VEVENT
END:VCALENDAR