BEGIN:VCALENDAR
VERSION:2.0
PRODID:-//Народни музеј - ECPv4.7.3//NONSGML v1.0//EN
CALSCALE:GREGORIAN
METHOD:PUBLISH
X-WR-CALNAME:Народни музеј
X-ORIGINAL-URL:https://www.narodnimuzej.rs
X-WR-CALDESC:Догађаји за Народни музеј
BEGIN:VEVENT
DTSTART;TZID=Europe/Belgrade:20250712T130000
DTEND;TZID=Europe/Belgrade:20250712T140000
DTSTAMP:20260420T090215
CREATED:20250630T220957Z
LAST-MODIFIED:20250701T223722Z
UID:54772-1752325200-1752328800@www.narodnimuzej.rs
SUMMARY:Радионица: Добар дан\, извините\, како да дођем до...
DESCRIPTION:Лето је време путовања. На путовањима доживимо толико тога лепог и створимо успомене за цео живот. У том расположењу\, ако смо већ били на летовању или се тек припремамо да одемо\, ако смо били код баке на селу или на неком дивном излету\, написаћемо путопис. Потрудићемо се да осталим учесницима радионице дочарамо место\, људе\, занимљивости\, добру храну\, садржаје за забаву и излете\, све што је на нас оставило утисак. Ко не жели да пише\, путопис ће претворити у цртеж у усмено представљање. Пријављивање учесника\, узраста 10-14 година\, је обавезно\, на мејл адресу: radionice@narodnimuzej.rs \n \n
URL:https://www.narodnimuzej.rs/dogadjaj/radionitsa-dobar-dan-izvinite-kako-da-do-em-do/
LOCATION:Спомен-музеј Надежде и Растка Петровића
CATEGORIES:Радионица
ATTACH;FMTTYPE=image/png:https://www.narodnimuzej.rs/wp-content/uploads/2025/07/nm_sajt_jul_feature15.png
END:VEVENT
END:VCALENDAR