BEGIN:VCALENDAR
VERSION:2.0
PRODID:-//Народни музеј - ECPv4.7.3//NONSGML v1.0//EN
CALSCALE:GREGORIAN
METHOD:PUBLISH
X-WR-CALNAME:Народни музеј
X-ORIGINAL-URL:https://www.narodnimuzej.rs
X-WR-CALDESC:Догађаји за Народни музеј
BEGIN:VEVENT
DTSTART;TZID=Europe/Belgrade:20230722T130000
DTEND;TZID=Europe/Belgrade:20230722T143000
DTSTAMP:20260425T102937
CREATED:20230628T200617Z
LAST-MODIFIED:20230703T142423Z
UID:49662-1690030800-1690036200@www.narodnimuzej.rs
SUMMARY:Музеј на распусту: Радионица за децу „Улични графити и мурали“
DESCRIPTION:Учесници радионице Улични графити и мурали узраста од 10-14 година\, исписују славеносербска слова од којих настају речи по Вуковом рјечнику. Рецимо од слова шт-ула\, шт-ап\,… у-шт-ипак и цртају поједине предмете из изложбене поставке. Радионицу ће водити кустос музеја Миодраг Томић. Радионица се изводи у оквиру програма Распуст у музеју. Бесплатно учешће уз пријављивање на мејл адресу radionice@narodnimuzej.rs  \n
URL:https://www.narodnimuzej.rs/dogadjaj/radionitsa-za-detsu-ulichni-grafiti-i-murali/
LOCATION:Музеј Вука и Доситеја
CATEGORIES:Радионица
ATTACH;FMTTYPE=image/jpeg:https://www.narodnimuzej.rs/wp-content/uploads/2023/05/Featured-5-1.jpg
END:VEVENT
END:VCALENDAR