BEGIN:VCALENDAR
VERSION:2.0
PRODID:-//Народни музеј - ECPv4.7.3//NONSGML v1.0//EN
CALSCALE:GREGORIAN
METHOD:PUBLISH
X-WR-CALNAME:Народни музеј
X-ORIGINAL-URL:https://www.narodnimuzej.rs
X-WR-CALDESC:Догађаји за Народни музеј
BEGIN:VEVENT
DTSTART;TZID=Europe/Belgrade:20240628T120000
DTEND;TZID=Europe/Belgrade:20240628T160000
DTSTAMP:20260420T130248
CREATED:20240618T152203Z
LAST-MODIFIED:20240618T152203Z
UID:52059-1719576000-1719590400@www.narodnimuzej.rs
SUMMARY:Радионица  за одрасле „Дан у музеју"
DESCRIPTION:Радионица  „Дан у музеју“ омогућава учесницима да успоставе лични однос  према предметима уметности и културе. Кроз позоришне и партиципативне  технике осврнућемо се на то како предмет може да буде део наше личне  историје и како можемо да створимо и дамо значење у свету који  посматрамо.  Овакав приступ је у одређеној мери већ успостављен унутар  поља драмске као и музејске педагогије. У складу са тим\, ова радионица  промовише оба поља и њихово значајно место у културном образовању деце\,  младих и одраслих. Радионицу води Георгина Какудаки\, истакнута драмска  уметница и педагошкиња\, представница Хеленске мреже драме и позоришта у  образовању (Hellenic Theatre/Drama and Education Network). Радионица је намењена одраслима – наставницима\, уметничким педагозима\, културним  едукаторима… – као начин њиховог оснаживања за примену креативних и  интерактивних метода у педагошким праксама. Учешће у радионици је  бесплатно\, али је због ограниченог броја места\,\, обавезно пријављивање  учесника путем: https://docs.google.com/forms/d/e/1FAIpQLSdoEaHE4bGnOQMBPOoPI6YGYttd6MESl6Fa4jjyxka99mCgiw/viewform \nРадионица се одржава на енглеском језику од 12 до 16 часова у Народном  музеју Србије. \n
URL:https://www.narodnimuzej.rs/dogadjaj/radionitsa-za-odrasle-dan-u-muzeju/
END:VEVENT
END:VCALENDAR