BEGIN:VCALENDAR
VERSION:2.0
PRODID:-//Народни музеј - ECPv4.7.3//NONSGML v1.0//EN
CALSCALE:GREGORIAN
METHOD:PUBLISH
X-WR-CALNAME:Народни музеј
X-ORIGINAL-URL:https://www.narodnimuzej.rs
X-WR-CALDESC:Догађаји за Народни музеј
BEGIN:VEVENT
DTSTART;TZID=Europe/Belgrade:20251211T180000
DTEND;TZID=Europe/Belgrade:20251211T190000
DTSTAMP:20260421T030335
CREATED:20251129T071347Z
LAST-MODIFIED:20251129T071347Z
UID:56499-1765476000-1765479600@www.narodnimuzej.rs
SUMMARY:Радионица за одрасле „Та чувена трећа димензија”
DESCRIPTION:Повратак креативном раду сличном ономе који смо практиковали у школским данима може помоћи да се ослободимо свакодневног стреса\, или макар на кратко побегнемо од свакодневице. На овој радионци подсетићемо се нечега давно заборављеног\, или учити о нечему што нам је можда у школским данима представљало проблем\, а то је цртање тродимензионалних објеката применом линеарне перспективе. Заједно ћемо откривати колико је то за неке лако\, за друге тешко\, да ли нас савладавање перспективе доводи до реалистичних или мање реалистичних радова\, али свакако верујемо да ћемо се сви заједно добро забавити. Пријављивање је обавезно на мејл адресу: radionice@narodnimuzej.rs \n
URL:https://www.narodnimuzej.rs/dogadjaj/radionitsa-za-odrasle-ta-chuvena-tre-a-dimenzija/
LOCATION:Спомен-музеј Надежде и Растка Петровића
CATEGORIES:Радионица
END:VEVENT
END:VCALENDAR