BEGIN:VCALENDAR
VERSION:2.0
PRODID:-//Народни музеј - ECPv4.7.3//NONSGML v1.0//EN
CALSCALE:GREGORIAN
METHOD:PUBLISH
X-WR-CALNAME:Народни музеј
X-ORIGINAL-URL:https://www.narodnimuzej.rs
X-WR-CALDESC:Догађаји за Народни музеј
BEGIN:VEVENT
DTSTART;TZID=Europe/Belgrade:20211016T130000
DTEND;TZID=Europe/Belgrade:20211016T143000
DTSTAMP:20260423T115404
CREATED:20210928T135706Z
LAST-MODIFIED:20211001T060653Z
UID:46283-1634389200-1634394600@www.narodnimuzej.rs
SUMMARY:Радионица за децу „Зоосликани врт“
DESCRIPTION:Сликари су са посебном пажњом у слике смештали животиње\, домаће и дивље. Заједно ћемо нацртати зоолошки врт испуњен животињама које смо видели на сликама страних уметника. \nПријављивање учесника узраста од 7 до 10 година обавезно је на адресу radionice@narodnimuzej.rs. \n
URL:https://www.narodnimuzej.rs/dogadjaj/radionitsa-zooslikani-vrt/
LOCATION:Народни музеј Србије
CATEGORIES:Радионица
ATTACH;FMTTYPE=image/jpeg:https://www.narodnimuzej.rs/wp-content/uploads/2021/09/3-Featured.jpg
END:VEVENT
END:VCALENDAR