BEGIN:VCALENDAR
VERSION:2.0
PRODID:-//Народни музеј - ECPv4.7.3//NONSGML v1.0//EN
CALSCALE:GREGORIAN
METHOD:PUBLISH
X-WR-CALNAME:Народни музеј
X-ORIGINAL-URL:https://www.narodnimuzej.rs
X-WR-CALDESC:Догађаји за Народни музеј
BEGIN:VEVENT
DTSTART;TZID=Europe/Belgrade:20251206T180000
DTEND;TZID=Europe/Belgrade:20251206T190000
DTSTAMP:20260421T092825
CREATED:20251129T070750Z
LAST-MODIFIED:20251201T154100Z
UID:56493-1765044000-1765047600@www.narodnimuzej.rs
SUMMARY:Разговор „Заблуде и дезинформације о Растку Петровићу”
DESCRIPTION:Романтичне приче често звуче уверљиво\, али управо зато лако постају тло за дезинформације. Једна таква\, дуго присутна у јавности\, тиче се наводног венчања Александра Дерока и околности смрти Растка Петровића. Иако на први поглед занимљива и драматична\, ова прича се показује као потпуно неизводљива када се упореде чињенице\, званична документа и реалне околности.\nНаш догађај истражује како настају овакве заблуде\, зашто се брзо шире и како их препознати. Кроз један занимљив пример показаћемо колико је важно критички приступати „добро познатим“ анегдотама и разликовати узбудљиве митове од стварности. Саговорник на ову тема биће наследник породице Петровић\, господин Милош Коларж.Разг \n
URL:https://www.narodnimuzej.rs/dogadjaj/razgovor-dezinformatsije-izme-u-mita-i-stvarnosti/
LOCATION:Спомен-музеј Надежде и Растка Петровића
CATEGORIES:Разговор
END:VEVENT
END:VCALENDAR