BEGIN:VCALENDAR
VERSION:2.0
PRODID:-//Народни музеј - ECPv4.7.3//NONSGML v1.0//EN
CALSCALE:GREGORIAN
METHOD:PUBLISH
X-WR-CALNAME:Народни музеј
X-ORIGINAL-URL:https://www.narodnimuzej.rs
X-WR-CALDESC:Догађаји за Народни музеј
BEGIN:VEVENT
DTSTART;TZID=Europe/Belgrade:20200307T130000
DTEND;TZID=Europe/Belgrade:20200307T143000
DTSTAMP:20260421T132955
CREATED:20200302T142813Z
LAST-MODIFIED:20200305T152829Z
UID:40644-1583586000-1583591400@www.narodnimuzej.rs
SUMMARY:Шта славимо Осмог марта?
DESCRIPTION:Процес укључивања жена у политику\, културу и све друге друштвене кругове није био ни брз ни лак. Обилазећи збирке Народног музеја\, видећемо како се мењао положај жена у Кнежевини и Краљевини Србији у 19. и 20. веку. Такође\, видећемо и велике промене које су Први и Други светски рат донели људском друштву у погледу једнакости и слобода. Придружите нам се да заједно откријемо због чега нам је важан 8. март и шта тада обележавамо. \nПријављивање учесника узраста од 10 до 14 година обавезно је на адресу radionice@narodnimuzej.rs. \n  \nУчешће у радионици се наплаћује 300 динара по учеснику.\n\n
URL:https://www.narodnimuzej.rs/dogadjaj/shta-slavimo-osmog-marta/
CATEGORIES:Радионица
END:VEVENT
END:VCALENDAR