BEGIN:VCALENDAR
VERSION:2.0
PRODID:-//Народни музеј - ECPv4.7.3//NONSGML v1.0//EN
CALSCALE:GREGORIAN
METHOD:PUBLISH
X-WR-CALNAME:Народни музеј
X-ORIGINAL-URL:https://www.narodnimuzej.rs
X-WR-CALDESC:Догађаји за Народни музеј
BEGIN:VEVENT
DTSTART;TZID=Europe/Belgrade:20200314T180000
DTEND;TZID=Europe/Belgrade:20200314T193000
DTSTAMP:20260421T180843
CREATED:20200305T082941Z
LAST-MODIFIED:20200305T121044Z
UID:40757-1584208800-1584214200@www.narodnimuzej.rs
SUMMARY:Тематско вођење из угла војника и градске даме
DESCRIPTION:У оквиру Породичног дана биће одржана три стручна вођења у првом лицу кроз Галерију српског сликарства 18. и 19. века. Термини су 12\, 15 и 18 часова. \n
URL:https://www.narodnimuzej.rs/dogadjaj/struchno-vo-ene-iz-ugla-vojnika-i-gradske-dame/
CATEGORIES:Вођења
END:VEVENT
END:VCALENDAR