BEGIN:VCALENDAR
VERSION:2.0
PRODID:-//Народни музеј - ECPv4.7.3//NONSGML v1.0//EN
CALSCALE:GREGORIAN
METHOD:PUBLISH
X-WR-CALNAME:Народни музеј
X-ORIGINAL-URL:https://www.narodnimuzej.rs
X-WR-CALDESC:Догађаји за Народни музеј
BEGIN:VEVENT
DTSTART;TZID=Europe/Belgrade:20200328T180000
DTEND;TZID=Europe/Belgrade:20200328T193000
DTSTAMP:20260421T182238
CREATED:20200304T151926Z
LAST-MODIFIED:20200323T133238Z
UID:40728-1585418400-1585423800@www.narodnimuzej.rs
SUMMARY:Тематско вођење: Знаци моћи
DESCRIPTION:На који начин су владари истицали своју моћ и како су се различита обележја моћи мењала кроз време? \nДа ли би човек био поданик краљу без круне и жезла\, да ли би веровао у војника без униформе?\nИстражите моћ владарских симбола кроз тематско вођење Знаци моћи.\n
URL:https://www.narodnimuzej.rs/dogadjaj/tematsko-vo-ene-znatsi-mo-i/
CATEGORIES:Вођења
END:VEVENT
END:VCALENDAR