BEGIN:VCALENDAR
VERSION:2.0
PRODID:-//Народни музеј - ECPv4.7.3//NONSGML v1.0//EN
CALSCALE:GREGORIAN
METHOD:PUBLISH
X-WR-CALNAME:Народни музеј
X-ORIGINAL-URL:https://www.narodnimuzej.rs
X-WR-CALDESC:Догађаји за Народни музеј
BEGIN:VEVENT
DTSTART;TZID=Europe/Belgrade:20200319T180000
DTEND;TZID=Europe/Belgrade:20200319T193000
DTSTAMP:20260421T100805
CREATED:20200304T151646Z
LAST-MODIFIED:20200323T133619Z
UID:40736-1584640800-1584646200@www.narodnimuzej.rs
SUMMARY:Урош Ђурић води кроз изложбу Јана Фабра
DESCRIPTION:Посетиоце Народног музеја ће у четвртак\, 19. марта\, у 18 часова кроз поставку изложбе Празник малих пријатеља водити визуелни уметник\, Урош Ђурић. Осведочени пријатељ и познавалац колекције Народног музеја\, заинтересованим посетиоцима пружиће могућност да присуствују једном посве једниственом вођењу кроз поставку изложбе Празник малих пријатеља уз виђење и тумачењу рада једног уметника од стране другог. \n
URL:https://www.narodnimuzej.rs/dogadjaj/urosh-uri-vodi-kroz-izlozhbu-jana-fabra/
LOCATION:Народни музеј Србије
CATEGORIES:Вођења
ATTACH;FMTTYPE=image/jpeg:https://www.narodnimuzej.rs/wp-content/uploads/2020/03/Cover-Event.jpg
END:VEVENT
END:VCALENDAR