BEGIN:VCALENDAR
VERSION:2.0
PRODID:-//Народни музеј - ECPv4.7.3//NONSGML v1.0//EN
CALSCALE:GREGORIAN
METHOD:PUBLISH
X-WR-CALNAME:Народни музеј
X-ORIGINAL-URL:https://www.narodnimuzej.rs
X-WR-CALDESC:Догађаји за Народни музеј
BEGIN:VEVENT
DTSTART;TZID=Europe/Belgrade:20190515T120000
DTEND;TZID=Europe/Belgrade:20190515T130000
DTSTAMP:20260421T065009
CREATED:20191002T125647Z
LAST-MODIFIED:20191002T125647Z
UID:38133-1557921600-1557925200@www.narodnimuzej.rs
SUMMARY:Вођење кроз Галерију српских и југословенских уметника прве половине XX века
DESCRIPTION:Тематско вођење кроз Галерију српских и југословенских уметника прве половине XX века у оквиру сталне поставке Народног музеја. \n  \nПрограм се одвија у оквиру манифестације „Музеји за 10“ и бесплатан је за посетиоце. \n
URL:https://www.narodnimuzej.rs/dogadjaj/vo-ene-kroz-galeriju-srpskih-i-jugoslovenskih-umetnika-prve-polovine-xx-veka/
LOCATION:Народни музеј Србије
CATEGORIES:Вођења
END:VEVENT
END:VCALENDAR